BEGIN:VCALENDAR
VERSION:2.0
PRODID:icalendar-ruby
CALSCALE:GREGORIAN
METHOD:PUBLISH
BEGIN:VEVENT
DTSTAMP:20260422T163413Z
UID:6-274087@stanhopeumc.org
DTSTART:20260927T133000Z
DTEND:20260927T143000Z
CLASS:PUBLIC
CREATED:20260422T114347
DESCRIPTION:Our 9:30 am Sunday service lasts about an hour and follows a th
 oughtful\, structured Protestant order of worship. You’ll experience a b
 lend of traditional and modern elements—hymns accompanied by organ and h
 ymnals alongside contemporary music\, scripture readings\, prayers\, and a
  meaningful sermon that connects faith to everyday life.\nEveryone is welc
 ome\, and you’ll never be singled out as a visitor. Come as you are and 
 participate in whatever way feels comfortable to you. Bulletins guide each
  part of the service\, making it easy to follow along.\n9:30 am Sunday Wor
 ship services are also available through our Facebook Live Stream. 
LAST-MODIFIED:20260422T114347
LOCATION:2 Route 183\, Netcong\, New Jersey 07857
SUMMARY:Sunday Worship Service
URL;VALUE=URI:https://stanhopeumc.org/events/sunday-worship-service/2026-09
 -27
ATTACH;FILENAME=Jazz-Sunday.jpg;FMTTYPE=image/jpeg:https://dq5pwpg1q8ru0.cl
 oudfront.net/2025/12/30/19/26/09/1af3a9e8-4412-4cc9-a2ea-3f33caed69b3/Jazz
 -Sunday.jpg
END:VEVENT
END:VCALENDAR
